BEGIN:VCALENDAR
VERSION:2.0
PRODID:-//Pine Meadow Golf Club - Mundelein, IL - ECPv6.15.20//NONSGML v1.0//EN
CALSCALE:GREGORIAN
METHOD:PUBLISH
X-WR-CALNAME:Pine Meadow Golf Club - Mundelein, IL
X-ORIGINAL-URL:https://pinemeadowgc.com
X-WR-CALDESC:Events for Pine Meadow Golf Club - Mundelein, IL
REFRESH-INTERVAL;VALUE=DURATION:PT1H
X-Robots-Tag:noindex
X-PUBLISHED-TTL:PT1H
BEGIN:VTIMEZONE
TZID:UTC
BEGIN:STANDARD
TZOFFSETFROM:+0000
TZOFFSETTO:+0000
TZNAME:UTC
DTSTART:20250101T000000
END:STANDARD
END:VTIMEZONE
BEGIN:VEVENT
DTSTART;TZID=UTC:20260910T000000
DTEND;TZID=UTC:20260910T235959
DTSTAMP:20260422T084039
CREATED:20260327T215519Z
LAST-MODIFIED:20260327T215520Z
UID:10000062-1788998400-1789084799@pinemeadowgc.com
SUMMARY:Ace and Laura Golf Outing
DESCRIPTION:
URL:https://pinemeadowgc.com/event/ace-and-laura-golf-outing/
END:VEVENT
END:VCALENDAR